BEGIN:VCALENDAR
VERSION:2.0
PRODID:-//Cara House - ECPv4.2.6//NONSGML v1.0//EN
CALSCALE:GREGORIAN
METHOD:PUBLISH
X-WR-CALNAME:Cara House
X-ORIGINAL-URL:http://carahouse.ie
X-WR-CALDESC:Events for Cara House
BEGIN:VEVENT
DTSTART;TZID=UTC+0:20170403T103000
DTEND;TZID=UTC+0:20180403T113000
DTSTAMP:20171028T235036
CREATED:20160808T134625
LAST-MODIFIED:20170410T122515
UID:808-1491215400-1522755000@carahouse.ie
SUMMARY:Driver Theory Class
DESCRIPTION:Come and practice for your driver theory class every Monday at 10.30am.\n\nLearn the rules of the road in a relaxed & patient environment.\n\nThis class  covers cars\, mopeds\, motorcycles and tractors using the driver theory test  & RSA approved DVD.
URL:http://carahouse.ie/event/driver-theory-in-with-computers
CATEGORIES:Learn Something New
END:VEVENT
END:VCALENDAR