BEGIN:VCALENDAR
VERSION:2.0
PRODID:-//Cara House - ECPv4.2.6//NONSGML v1.0//EN
CALSCALE:GREGORIAN
METHOD:PUBLISH
X-WR-CALNAME:Cara House
X-ORIGINAL-URL:http://carahouse.ie
X-WR-CALDESC:Events for Cara House
BEGIN:VEVENT
DTSTART;TZID=UTC+0:20170407T100000
DTEND;TZID=UTC+0:20170630T110000
DTSTAMP:20171028T234958
CREATED:20160808T130440
LAST-MODIFIED:20170410T114725
UID:796-1491559200-1498820400@carahouse.ie
SUMMARY:Irish for Parents
DESCRIPTION:Great class for parents to improve their Irish every Friday at 10.00 am
URL:http://carahouse.ie/event/irish-for-parents-fridays-10
CATEGORIES:Babies and Parents
END:VEVENT
END:VCALENDAR