BEGIN:VCALENDAR
VERSION:2.0
PRODID:-//Cara House - ECPv4.2.6//NONSGML v1.0//EN
CALSCALE:GREGORIAN
METHOD:PUBLISH
X-WR-CALNAME:Cara House
X-ORIGINAL-URL:http://carahouse.ie
X-WR-CALDESC:Events for Cara House
BEGIN:VEVENT
DTSTART;TZID=UTC+0:20170403T100000
DTEND;TZID=UTC+0:20180402T110000
DTSTAMP:20171028T234442
CREATED:20160808T130035
LAST-MODIFIED:20170410T105400
UID:792-1491213600-1522666800@carahouse.ie
SUMMARY:Spanish for Beginners with Lety
DESCRIPTION:Would you like to learn a new language?? Be able to speak the lingo with the locals when you go on holidays??\n\nSpanish for beginners takes place every Monday at 10.00am in Cara House.\n\n€30 for five classes.\n\nContact our office for more details.
URL:http://carahouse.ie/event/spanish-for-beginners-with-lety-thursdays-at-10
CATEGORIES:Learn Something New
END:VEVENT
END:VCALENDAR